BEGIN:VCALENDAR
VERSION:2.0
PRODID:-//Flagler  County Intergroup Inc............................................AA Flagler Helpline  (386) 445-4357............................................................................................................. - ECPv6.15.13.1//NONSGML v1.0//EN
CALSCALE:GREGORIAN
METHOD:PUBLISH
X-WR-CALNAME:Flagler  County Intergroup Inc............................................AA Flagler Helpline  (386) 445-4357.............................................................................................................
X-ORIGINAL-URL:https://aaflagler.org
X-WR-CALDESC:Events for Flagler  County Intergroup Inc............................................AA Flagler Helpline  (386) 445-4357.............................................................................................................
REFRESH-INTERVAL;VALUE=DURATION:PT1H
X-Robots-Tag:noindex
X-PUBLISHED-TTL:PT1H
BEGIN:VTIMEZONE
TZID:America/New_York
BEGIN:DAYLIGHT
TZOFFSETFROM:-0500
TZOFFSETTO:-0400
TZNAME:EDT
DTSTART:20250309T070000
END:DAYLIGHT
BEGIN:STANDARD
TZOFFSETFROM:-0400
TZOFFSETTO:-0500
TZNAME:EST
DTSTART:20251102T060000
END:STANDARD
BEGIN:DAYLIGHT
TZOFFSETFROM:-0500
TZOFFSETTO:-0400
TZNAME:EDT
DTSTART:20260308T070000
END:DAYLIGHT
BEGIN:STANDARD
TZOFFSETFROM:-0400
TZOFFSETTO:-0500
TZNAME:EST
DTSTART:20261101T060000
END:STANDARD
BEGIN:DAYLIGHT
TZOFFSETFROM:-0500
TZOFFSETTO:-0400
TZNAME:EDT
DTSTART:20270314T070000
END:DAYLIGHT
BEGIN:STANDARD
TZOFFSETFROM:-0400
TZOFFSETTO:-0500
TZNAME:EST
DTSTART:20271107T060000
END:STANDARD
END:VTIMEZONE
BEGIN:VEVENT
DTSTART;TZID=America/New_York:20260101T000000
DTEND;TZID=America/New_York:20261231T235959
DTSTAMP:20260424T073818
CREATED:20251220T203433Z
LAST-MODIFIED:20260112T133618Z
UID:4381-1767225600-1798761599@aaflagler.org
SUMMARY:All Meetings in Flagler County
DESCRIPTION:Tap Here to be taken to meetings listings.
URL:https://aaflagler.org/events/special-election/
END:VEVENT
BEGIN:VEVENT
DTSTART;TZID=America/New_York:20260427T183000
DTEND;TZID=America/New_York:20260427T200000
DTSTAMP:20260424T073818
CREATED:20250712T134236Z
LAST-MODIFIED:20260330T170339Z
UID:4050-1777314600-1777320000@aaflagler.org
SUMMARY:District Business Meeting
DESCRIPTION:630pm-8pmFlagler Beach United Methodist Church1520 S. Daytona St Flagler Beach\, FL 32163In the Classroom of the Office Building (NOT the large meeting area) \n\n\n\nJoin Zoom Meeting \n\n\n\nhttps://us02web.zoom.us/j/88630922782?pwd=REdXd1A5Y1ZuS25WbnZxamlBYmpFZz09 \n\n\n\n\n\nMeeting ID: 886 3092 2782Passcode: 3Legacies
URL:https://aaflagler.org/events/the-reading-group-new-day-and-time/
LOCATION:United Methodist Church\, 1520 South Daytona Avenue\, Flagler Beach\, FL\, United States
END:VEVENT
BEGIN:VEVENT
DTSTART;TZID=America/New_York:20260503T170000
DTEND;TZID=America/New_York:20260503T180000
DTSTAMP:20260424T073818
CREATED:20250829T154217Z
LAST-MODIFIED:20260330T170232Z
UID:4176-1777827600-1777831200@aaflagler.org
SUMMARY:Intergroup Business Meeting
DESCRIPTION:
URL:https://aaflagler.org/events/intergroup-business-meeting-2/
LOCATION:Silver Dollar II Club\, 2726 E. Moody Blvd #707\, Bunnnell\, FL\, 32110\, United States
END:VEVENT
BEGIN:VEVENT
DTSTART;TZID=America/New_York:20260509T110000
DTEND;TZID=America/New_York:20260509T150000
DTSTAMP:20260424T073818
CREATED:20260226T150349Z
LAST-MODIFIED:20260330T170131Z
UID:4580-1778324400-1778338800@aaflagler.org
SUMMARY:Spring Picnic!
DESCRIPTION:
URL:https://aaflagler.org/events/spring-picnic-2/
END:VEVENT
BEGIN:VEVENT
DTSTART;TZID=America/New_York:20260509T173000
DTEND;TZID=America/New_York:20260509T200000
DTSTAMP:20260424T073818
CREATED:20260104T214539Z
LAST-MODIFIED:20260420T141244Z
UID:4460-1778347800-1778356800@aaflagler.org
SUMMARY:Bowling in Recovery
DESCRIPTION:Please read flyer for all pertinent details.
URL:https://aaflagler.org/events/bowling-in-recovery/
LOCATION:Palm Coast Lane\, 11 Old Kings Rd\, Palm Coast\, FL\, 32164\, United States
END:VEVENT
BEGIN:VEVENT
DTSTART;TZID=America/New_York:20260516T100000
DTEND;TZID=America/New_York:20260516T120000
DTSTAMP:20260424T073818
CREATED:20260313T210910Z
LAST-MODIFIED:20260416T172514Z
UID:4606-1778925600-1778932800@aaflagler.org
SUMMARY:District 22 Post Conference Agenda Workshop
DESCRIPTION:
URL:https://aaflagler.org/events/district-22-pre-conference-agenda-workshop/
END:VEVENT
BEGIN:VEVENT
DTSTART;TZID=America/New_York:20260613T110000
DTEND;TZID=America/New_York:20260613T140000
DTSTAMP:20260424T073818
CREATED:20260422T162904Z
LAST-MODIFIED:20260422T162905Z
UID:4646-1781348400-1781359200@aaflagler.org
SUMMARY:The 9th Step Promises Workshop
DESCRIPTION:
URL:https://aaflagler.org/events/the-9th-step-promises-workshop/
END:VEVENT
BEGIN:VEVENT
DTSTART;TZID=America/New_York:20260806T080000
DTEND;TZID=America/New_York:20260809T170000
DTSTAMP:20260424T073818
CREATED:20251222T041019Z
LAST-MODIFIED:20251222T041620Z
UID:4425-1786003200-1786294800@aaflagler.org
SUMMARY:Florida State Convention
DESCRIPTION:
URL:https://aaflagler.org/events/florida-state-convention/
END:VEVENT
BEGIN:VEVENT
DTSTART;TZID=America/New_York:20261024T000000
DTEND;TZID=America/New_York:20261024T235959
DTSTAMP:20260424T073818
CREATED:20260112T130918Z
LAST-MODIFIED:20260226T150451Z
UID:4477-1792800000-1792886399@aaflagler.org
SUMMARY:Halloween Party
DESCRIPTION:This event will be hosted by Life’s A Beach Group at the Hammock Community Center. More details to follow!
URL:https://aaflagler.org/events/halloween-party/
END:VEVENT
BEGIN:VEVENT
DTSTART;TZID=America/New_York:20261114T000000
DTEND;TZID=America/New_York:20261114T235959
DTSTAMP:20260424T073818
CREATED:20260226T150739Z
LAST-MODIFIED:20260420T231146Z
UID:4584-1794614400-1794700799@aaflagler.org
SUMMARY:Gratitude Dinner!
DESCRIPTION:This event will be held at Palm Coast Community Center.  More details to follow!
URL:https://aaflagler.org/events/gratitude-dinner/
END:VEVENT
END:VCALENDAR